BEGIN:VCALENDAR
VERSION:2.0
PRODID:-//Welcome To D'Jais - ECPv6.14.2//NONSGML v1.0//EN
CALSCALE:GREGORIAN
METHOD:PUBLISH
X-WR-CALNAME:Welcome To D'Jais
X-ORIGINAL-URL:https://djais.com
X-WR-CALDESC:Events for Welcome To D'Jais
REFRESH-INTERVAL;VALUE=DURATION:PT1H
X-Robots-Tag:noindex
X-PUBLISHED-TTL:PT1H
BEGIN:VTIMEZONE
TZID:America/New_York
BEGIN:DAYLIGHT
TZOFFSETFROM:-0500
TZOFFSETTO:-0400
TZNAME:EDT
DTSTART:20250309T070000
END:DAYLIGHT
BEGIN:STANDARD
TZOFFSETFROM:-0400
TZOFFSETTO:-0500
TZNAME:EST
DTSTART:20251102T060000
END:STANDARD
END:VTIMEZONE
BEGIN:VEVENT
DTSTART;TZID=America/New_York:20250517T110000
DTEND;TZID=America/New_York:20250518T020000
DTSTAMP:20260425T230426
CREATED:20250512T201831Z
LAST-MODIFIED:20250512T201831Z
UID:8280-1747479600-1747533600@djais.com
SUMMARY:Off The Beach Happy Hour Start's 1P... 9PM At Night The Big VIP Card Giveaway!  
DESCRIPTION:Start Early We Open 11AM 1PM w/ DJ Fun Size Window Power Hour! \nHappy Hour Until 8PM \nMusic By DJ Kipples & 2FACE \n$3 Beers $4 Drinks $5 D’Jais Surf Teas \nAt Night The Big VIP Card Giveaway! \nStarting at 9PM \nWe are giving away 750 VIP Cards! (North Jersey \, Staten Island\, Brooklyn\, Queens!  Here’s your chance for a VIP) \nFirst Come First Served! (Arrive before 11p) \nBonsolid’s Mix til 2am! \nCHRIS MOODY’S IN DA BUILDING!!!!! \nw/DJ Kipples DJ Chris Moody & DJ John Farruggio
URL:https://djais.com/event/off-the-beach-happy-hour-starts-1p-9pm-at-night-the-big-vip-card-giveaway/
LOCATION:D’Jais\, 1801 Ocean Ave\, Belmar\, NJ\, 07719\, United States
ATTACH;FMTTYPE=image/jpeg:https://djais.com/wp-content/uploads/may17_665x366.jpg
END:VEVENT
END:VCALENDAR