BEGIN:VCALENDAR
VERSION:2.0
PRODID:-//Welcome To D'Jais - ECPv6.14.2//NONSGML v1.0//EN
CALSCALE:GREGORIAN
METHOD:PUBLISH
X-WR-CALNAME:Welcome To D'Jais
X-ORIGINAL-URL:https://djais.com
X-WR-CALDESC:Events for Welcome To D'Jais
REFRESH-INTERVAL;VALUE=DURATION:PT1H
X-Robots-Tag:noindex
X-PUBLISHED-TTL:PT1H
BEGIN:VTIMEZONE
TZID:America/New_York
BEGIN:DAYLIGHT
TZOFFSETFROM:-0500
TZOFFSETTO:-0400
TZNAME:EDT
DTSTART:20240310T070000
END:DAYLIGHT
BEGIN:STANDARD
TZOFFSETFROM:-0400
TZOFFSETTO:-0500
TZNAME:EST
DTSTART:20241103T060000
END:STANDARD
END:VTIMEZONE
BEGIN:VEVENT
DTSTART;TZID=America/New_York:20240606T200000
DTEND;TZID=America/New_York:20240607T200000
DTSTAMP:20260421T075732
CREATED:20240531T150805Z
LAST-MODIFIED:20240531T150805Z
UID:7921-1717704000-1717790400@djais.com
SUMMARY:Frank Sementa's Famous Theme Party Thursdays Theme #2 Mardi Gras
DESCRIPTION:Frank Sementa’s Famous Theme Party Thursdays \nTheme #2 Mardi Gras “It’s All About The Beads” \nJust Like New Orleans for One Night! The Big Easy! \nNo Cover til 10PM \nIt’s also Ladies Night! Ladies are Free All Night! \n$3 ULTRA’s $4 Vodka Drinks\, $5 Nutrl Until 10PM \nBe a part of the Show! \nPrizes for costumes \n  \nEvery Thursday is a New Theme \nMusic By Ryan Subers DJ Kipples Chris Leed & John Farruggio
URL:https://djais.com/event/frank-sementas-famous-theme-party-thursdays-theme-2-mardi-gras/
LOCATION:D’Jais\, 1801 Ocean Ave\, Belmar\, NJ\, 07719\, United States
ATTACH;FMTTYPE=image/jpeg:https://djais.com/wp-content/uploads/JUNE6_665x366.jpg
END:VEVENT
BEGIN:VEVENT
DTSTART;TZID=America/New_York:20240607T160000
DTEND;TZID=America/New_York:20240608T160000
DTSTAMP:20260421T075732
CREATED:20240605T020454Z
LAST-MODIFIED:20240605T020454Z
UID:7937-1717776000-1717862400@djais.com
SUMMARY:World Famous Friday After Work Party No Cover! $3 Beers $4 & $5 Drinks At Night DJ Chris Moody 
DESCRIPTION:The World Famous Friday After Work Party \n4-9PM The Best Deal at the Shore \nThe Buffet is back!!!!\nThe Buffet cost is $10 per person which includes 2 Free drink tickets. \n$3 Ultra’s $4 Vodka Drinks\, $4 Heineken Silvers $5 Nutrls \nPlus Spin the Wheel for Prizes with Nico \nMusic By DJ Vitaman John Farruggio and Kipples \nAt Night DJ Chris Moody \n& Joe Giorgio
URL:https://djais.com/event/world-famous-friday-after-work-party-no-cover-3-beers-4-5-drinks-at-night-dj-chris-moody/
LOCATION:D’Jais\, 1801 Ocean Ave\, Belmar\, NJ\, 07719\, United States
ATTACH;FMTTYPE=image/jpeg:https://djais.com/wp-content/uploads/djais_june7_665x366.jpg
END:VEVENT
BEGIN:VEVENT
DTSTART;TZID=America/New_York:20240614T160000
DTEND;TZID=America/New_York:20240615T020000
DTSTAMP:20260421T075732
CREATED:20240612T184234Z
LAST-MODIFIED:20240614T185341Z
UID:7965-1718380800-1718416800@djais.com
SUMMARY:The World Famous After Work Party 4-9P At Night  DJ Olive Oil
DESCRIPTION:The World Famous After Work Party \n4-9PM The Best Deal at the Shore \n4PM The Buffet is back!!!!\nThe Buffet cost is $10 per person which includes 2 Free drink tickets. \n$3 Ultra’s $4 Vodka Drinks\, $4 Heineken Silvers $5 Nutrls \nPlus Spin the Wheel for Prizes with Nico \nMusic By DJ Vitaman John Farruggio and Kipples \nAt Night \nDJ Olive Oil \n& Joe Giorgio
URL:https://djais.com/event/the-world-famous-after-work-party-4-9p-at-night-dj-olive-oil-w-dj-chachi/
LOCATION:D’Jais\, 1801 Ocean Ave\, Belmar\, NJ\, 07719\, United States
ATTACH;FMTTYPE=image/jpeg:https://djais.com/wp-content/uploads/djais_june14b_665x366-1.jpg
END:VEVENT
BEGIN:VEVENT
DTSTART;TZID=America/New_York:20240615T140000
DTEND;TZID=America/New_York:20240616T020000
DTSTAMP:20260421T075732
CREATED:20240611T160326Z
LAST-MODIFIED:20240611T160326Z
UID:7954-1718460000-1718503200@djais.com
SUMMARY:Kipples Beach Party Happy Hour 2P to 8P $3 ULTRA’s $4 Vodka Drinks At Night BonSolid’s Mix  With Vegas's Own  DJ Five 
DESCRIPTION:Kipples Beach Party Happy Hour 2P to 8P \n$3 ULTRA’s $4 Vodka Drinks\, $5 Nutrl $4 Heineken Silvers \nW/ DJ Giorgio DJ Joey Disarno\, Brendan O’Neill \nAt Night 8:30PM BonSolid’s Mix \nWith DJ Finesse plus \nStraight from Vegas \nDJ Five \nAlong with DJ Hova John Farruggio & DJ Kipples
URL:https://djais.com/event/kipples-beach-party-happy-hour-2p-to-8p-3-ultras-4-vodka-drinks-at-night-bonsolids-mix-with-vegass-own-dj-five/
LOCATION:D’Jais\, 1801 Ocean Ave\, Belmar\, NJ\, 07719\, United States
ATTACH;FMTTYPE=image/jpeg:https://djais.com/wp-content/uploads/djais_june15_2024_665x366.jpg
END:VEVENT
BEGIN:VEVENT
DTSTART;TZID=America/New_York:20240620T200000
DTEND;TZID=America/New_York:20240621T200000
DTSTAMP:20260421T075732
CREATED:20240614T185029Z
LAST-MODIFIED:20240614T185059Z
UID:7976-1718913600-1719000000@djais.com
SUMMARY:Frank Sementa's Famous Theme Party Thursdays Theme #4 Pirates and Mermaids
DESCRIPTION:AHOY!!!\nIt’s Theme #4\nPirates & Mermaids\nIt’s also Ladies Night! Ladies are Free All Night!\n$3 ULTRA’s $4 Vodka Drinks\, $5 Nutrl Until 10:30 PM\nBe a part of the Show!\nPrizes for costumes\nEvery Thursday is a New Theme\nMusic By Ryan Subers DJ Kipples Chris Leed & John Farruggio\nNo Cover til 10:30PM
URL:https://djais.com/event/frank-sementas-famous-theme-party-thursdays-theme-4-pirates-and-mermaids/
LOCATION:D’Jais\, 1801 Ocean Ave\, Belmar\, NJ\, 07719\, United States
ATTACH;FMTTYPE=image/jpeg:https://djais.com/wp-content/uploads/JUNE20_665x366.jpg
END:VEVENT
BEGIN:VEVENT
DTSTART;TZID=America/New_York:20240629T140000
DTEND;TZID=America/New_York:20240630T140000
DTSTAMP:20260421T075732
CREATED:20240619T224313Z
LAST-MODIFIED:20240626T152158Z
UID:7988-1719669600-1719756000@djais.com
SUMMARY:Kipples Beach Party Happy Hour 2P to 8P $3 ULTRA’s $4 Vodka Drinks At Night BonSolid’s Mix  With DJ Joe Maz
DESCRIPTION:Kipples Beach Party \nHappy Hour 2P to 8P \n$3 ULTRA’s $4 Vodka Drinks\, $5 Nutrl $4 Heineken Silvers \nHappy Hr with DJ Johnny Budz\, Joe Giorgio & Brendan O’Neill \n  \nAt Night 8:30PM \nBonSolid’s Mix \nWith DJ Finesse plus \nDJ Joe Maz \nAlong with John Farruggio & DJ Kipples
URL:https://djais.com/event/kipples-beach-party-happy-hour-2p-to-8p-3-ultras-4-vodka-drinks-at-night-bonsolids-mix-with-dj-finesse-plus-chris-leed-x-dj-za/
LOCATION:D’Jais\, 1801 Ocean Ave\, Belmar\, NJ\, 07719\, United States
ATTACH;FMTTYPE=image/jpeg:https://djais.com/wp-content/uploads/djais_june29_2024_665x366.jpg
END:VEVENT
END:VCALENDAR