BEGIN:VCALENDAR
VERSION:2.0
PRODID:-//Welcome To D'Jais - ECPv6.14.2//NONSGML v1.0//EN
CALSCALE:GREGORIAN
METHOD:PUBLISH
X-ORIGINAL-URL:https://djais.com
X-WR-CALDESC:Events for Welcome To D'Jais
REFRESH-INTERVAL;VALUE=DURATION:PT1H
X-Robots-Tag:noindex
X-PUBLISHED-TTL:PT1H
BEGIN:VTIMEZONE
TZID:America/New_York
BEGIN:DAYLIGHT
TZOFFSETFROM:-0500
TZOFFSETTO:-0400
TZNAME:EDT
DTSTART:20240310T070000
END:DAYLIGHT
BEGIN:STANDARD
TZOFFSETFROM:-0400
TZOFFSETTO:-0500
TZNAME:EST
DTSTART:20241103T060000
END:STANDARD
END:VTIMEZONE
BEGIN:VEVENT
DTSTART;TZID=America/New_York:20240703T160000
DTEND;TZID=America/New_York:20240704T020000
DTSTAMP:20260421T062819
CREATED:20240627T172628Z
LAST-MODIFIED:20240627T172708Z
UID:8016-1720022400-1720058400@djais.com
SUMMARY:Wednesday July 3rd! The Red White & Blue Weekend Kickoff!  It's Just Like a Friday!
DESCRIPTION:The Red White & Blue Weekend Kickoff! \nIt’s Just Like a Friday!\nStarts After Work! \nAll Day/Night \n5P Buffet\nHappy Hour 4P-9P\nw/ Spin The wheel w/ Nico \nHappy Hour with Vitaman\, Kipples & Farruggio \nat Night It’s DJ Joe Giorgio\, DJ Hova & Chris Moody!
URL:https://djais.com/event/wednesday-july-3rd-the-red-white-blue-weekend-kickoff-its-just-like-a-friday/
LOCATION:D’Jais\, 1801 Ocean Ave\, Belmar\, NJ\, 07719\, United States
ATTACH;FMTTYPE=image/jpeg:https://djais.com/wp-content/uploads/july3_665x366.jpg
ORGANIZER;CN="D'Jais":MAILTO:info@djais.com
END:VEVENT
BEGIN:VEVENT
DTSTART;TZID=America/New_York:20240704T140000
DTEND;TZID=America/New_York:20240705T140000
DTSTAMP:20260421T062819
CREATED:20240629T175618Z
LAST-MODIFIED:20240629T175618Z
UID:8025-1720101600-1720188000@djais.com
SUMMARY:D'Jais 4th of July! All Day / Nite + Frank Sementa's Famous Red White & Blue Celebration
DESCRIPTION:D’Jais 4th of July! \nAll Day / Night \nHappy Hour til 2PM-8PM \nHappy Hour Joe Disarno Joe Giorgio & Chris Moody \nDon’t Miss \nFrank Sementa’s Famous Red White & Blue Celebration \nat Nite \nMusic By Ryan Subers DJ Kipples Chris Leed & John Farruggio
URL:https://djais.com/event/djais-4th-of-july-all-day-nite-frank-sementas-famous-red-white-blue-celebration/
LOCATION:D’Jais\, 1801 Ocean Ave\, Belmar\, NJ\, 07719\, United States
ATTACH;FMTTYPE=image/jpeg:https://djais.com/wp-content/uploads/JULY4_665x366.jpg
END:VEVENT
BEGIN:VEVENT
DTSTART;TZID=America/New_York:20240705T140000
DTEND;TZID=America/New_York:20240706T140000
DTSTAMP:20260421T062819
CREATED:20240629T175851Z
LAST-MODIFIED:20240629T175851Z
UID:8028-1720188000-1720274400@djais.com
SUMMARY:The World Famous After Work Party Starts Early 2PM at Night The Disco Fries 
DESCRIPTION:The World Famous After Work Party \nHappy Hour 2-9PM \n4PM The Buffet is back!!!!\nThe Buffet cost is $10 per person which includes 2 Free drink tickets. \nPlus Spin the Wheel for Prizes with Nico \nMusic By DJ Vitaman John Farruggio and Kipples \nAt Night \nThe Disco Fries \nw/ DJ Joe Disarno DJ Finese & Joe Giorgio
URL:https://djais.com/event/the-world-famous-after-work-party-starts-early-2pm-at-night-the-disco-fries/
LOCATION:D’Jais\, 1801 Ocean Ave\, Belmar\, NJ\, 07719\, United States
ATTACH;FMTTYPE=image/jpeg:https://djais.com/wp-content/uploads/july5_2024_fb.jpg
END:VEVENT
BEGIN:VEVENT
DTSTART;TZID=America/New_York:20240706T140000
DTEND;TZID=America/New_York:20240707T020000
DTSTAMP:20260421T062819
CREATED:20240629T180302Z
LAST-MODIFIED:20240629T180302Z
UID:8031-1720274400-1720317600@djais.com
SUMMARY:Kipples Beach Party Happy Hour 2P to 8P At Night  BonSolid’s Mix  With DJ Cam  & DJ Chachi
DESCRIPTION:Kipples Beach Party \nHappy Hour 2P to 8P \nHappy Hour with DJ Joe Disarno \, Joe Giorgio \,Brendan O’Neill & DJ Finesse \nAt Night 8:30PM \nBonSolid’s Mix \nWith DJ Cam \n& DJ Chachi \nAlong with John Farruggio & DJ Kipples
URL:https://djais.com/event/kipples-beach-party-happy-hour-2p-to-8p-at-night-bonsolids-mix-with-dj-cam-dj-chachi/
LOCATION:D’Jais\, 1801 Ocean Ave\, Belmar\, NJ\, 07719\, United States
ATTACH;FMTTYPE=image/jpeg:https://djais.com/wp-content/uploads/july6_2024_fb.jpg
END:VEVENT
BEGIN:VEVENT
DTSTART;TZID=America/New_York:20240728T110000
DTEND;TZID=America/New_York:20240729T020000
DTSTAMP:20260421T062819
CREATED:20240605T020834Z
LAST-MODIFIED:20240718T161204Z
UID:7940-1722164400-1722218400@djais.com
SUMMARY:The Original Sunday Funday Bingo Begins 11am Happy Hour til 7pm! 5PM Special Guest Brandi Cyrus Live on stage!
DESCRIPTION:The Original Sunday Funday All Day/Night \nStart Early! Goes Late! \nBingo Begins 11am w/ Nico & John Farruggio \nHappy Hour til 7pm \nMusic by DJ Charlie Cavallo  & Brendan O’Neill \n5PM Special Guest Brandi Cyrus Live on stage! \nLimited $10 Reduced Advance Ticket \nLate Night with OMNOM & DJ Joe Giorgio
URL:https://djais.com/event/the-original-sunday-funday-bingo-begins-11am-happy-hour-til-7pm-at-night-8p-dj-finesse-special-guest-182s-dj-spider/
LOCATION:D’Jais\, 1801 Ocean Ave\, Belmar\, NJ\, 07719\, United States
ATTACH;FMTTYPE=image/jpeg:https://djais.com/wp-content/uploads/july28_brandi_665x366.jpg
END:VEVENT
BEGIN:VEVENT
DTSTART;TZID=America/New_York:20240728T190000
DTEND;TZID=America/New_York:20240729T020000
DTSTAMP:20260421T062819
CREATED:20240529T165500Z
LAST-MODIFIED:20240718T161737Z
UID:7914-1722193200-1722218400@djais.com
SUMMARY:The Original Sunday Funday 11 am Bingo! 10PM Special Show ! OMNOM
DESCRIPTION:The Original Sunday Funday 11 am Bingo! 9PM Special Show Live on Stage! MAKJ \nBingo with Nico starts at 11am. \n10PM Special Show \nOMNOM \nGet ready for some Left-of-center\, bass-fueled house! \nReduced Limited $10 Ticket Link  \nMusic 5p to 2am by by DJ’s Charlie Cavallo\, & Kipples \nLate Night with DJ Joe Giorgio & Brendan O’Neill
URL:https://djais.com/event/the-original-sunday-funday-11-am-bingo-9pm-special-show-live-on-stage-makj/
LOCATION:D’Jais\, 1801 Ocean Ave\, Belmar\, NJ\, 07719\, United States
ATTACH;FMTTYPE=image/jpeg:https://djais.com/wp-content/uploads/july28_omnom_665x366.jpg
END:VEVENT
END:VCALENDAR